BEGIN:VCALENDAR
VERSION:2.0
PRODID:-//Department Of Education//48b1b5f9-63b7-441c-bdaf-220701604bc5
BEGIN:VTIMEZONE
TZID:Australia/Sydney
TZURL:http://tzurl.org/zoneinfo-outlook/Australia/Sydney
X-LIC-LOCATION:Australia/Sydney
BEGIN:STANDARD
TZOFFSETFROM:+1100
TZOFFSETTO:+1000
TZNAME:AEST
DTSTART:19700405T030000
RRULE:FREQ=YEARLY;BYMONTH=4;BYDAY=1SU
END:STANDARD
BEGIN:DAYLIGHT
TZOFFSETFROM:+1000
TZOFFSETTO:+1100
TZNAME:AEDT
DTSTART:19701004T020000
RRULE:FREQ=YEARLY;BYMONTH=10;BYDAY=1SU
END:DAYLIGHT
END:VTIMEZONE
CALSCALE:GREGORIAN
X-WR-TIMEZONE:Australia/Sydney
BEGIN:VEVENT
DTSTART;VALUE=DATE:20110506
DTEND;VALUE=DATE:20110507
DTSTAMP:20110506T000000Z
UID:dbe09a59-46a8-4563-81b3-8142b2dd1ecd
LOCATION:
SUMMARY;LANGUAGE=en-us:Boys PSSA Cricket
SEQUENCE:0
DESCRIPTION:Round 3 PSSA Boys Cricket Frederickton Public School V's Telegraph Point Public School at the Frederickton Sports Oval.
END:VEVENT
TRANSP:TRANSPARENT
END:VCALENDAR
