BEGIN:VCALENDAR
VERSION:2.0
PRODID:-//Department Of Education//9eb07b2a-5dd6-4cf2-8090-78a2ccf6a265
BEGIN:VTIMEZONE
TZID:Australia/Sydney
TZURL:http://tzurl.org/zoneinfo-outlook/Australia/Sydney
X-LIC-LOCATION:Australia/Sydney
BEGIN:STANDARD
TZOFFSETFROM:+1100
TZOFFSETTO:+1000
TZNAME:AEST
DTSTART:19700405T030000
RRULE:FREQ=YEARLY;BYMONTH=4;BYDAY=1SU
END:STANDARD
BEGIN:DAYLIGHT
TZOFFSETFROM:+1000
TZOFFSETTO:+1100
TZNAME:AEDT
DTSTART:19701004T020000
RRULE:FREQ=YEARLY;BYMONTH=10;BYDAY=1SU
END:DAYLIGHT
END:VTIMEZONE
CALSCALE:GREGORIAN
X-WR-TIMEZONE:Australia/Sydney
BEGIN:VEVENT
DTSTART;VALUE=DATE:20110513
DTEND;VALUE=DATE:20110514
DTSTAMP:20110513T000000Z
UID:3eb26ce1-e949-4551-a513-9c9104593c4f
LOCATION:
SUMMARY;LANGUAGE=en-us:Cross Country
SEQUENCE:0
DESCRIPTION:Whole School Cross Country
END:VEVENT
TRANSP:TRANSPARENT
END:VCALENDAR
