BEGIN:VCALENDAR
VERSION:2.0
PRODID:-//Department Of Education//9dde7b92-a0bc-41c7-be74-bb111cae0f12
BEGIN:VTIMEZONE
TZID:Australia/Sydney
TZURL:http://tzurl.org/zoneinfo-outlook/Australia/Sydney
X-LIC-LOCATION:Australia/Sydney
BEGIN:STANDARD
TZOFFSETFROM:+1100
TZOFFSETTO:+1000
TZNAME:AEST
DTSTART:19700405T030000
RRULE:FREQ=YEARLY;BYMONTH=4;BYDAY=1SU
END:STANDARD
BEGIN:DAYLIGHT
TZOFFSETFROM:+1000
TZOFFSETTO:+1100
TZNAME:AEDT
DTSTART:19701004T020000
RRULE:FREQ=YEARLY;BYMONTH=10;BYDAY=1SU
END:DAYLIGHT
END:VTIMEZONE
CALSCALE:GREGORIAN
X-WR-TIMEZONE:Australia/Sydney
BEGIN:VEVENT
DTSTART;TZID=Australia/Sydney:20110504T093000
DTEND;TZID=Australia/Sydney:20110504T110000
DTSTAMP:20110504T093000Z
UID:2cbe9b53-0eb7-46cd-88cb-f089da294be5
LOCATION:
SUMMARY;LANGUAGE=en-us:K-2 Pet Education Visit
SEQUENCE:0
DESCRIPTION:Pet Education
END:VEVENT
TRANSP:TRANSPARENT
END:VCALENDAR
