BEGIN:VCALENDAR
VERSION:2.0
PRODID:-//Department Of Education//afbfc5db-d184-445d-a9e3-48758911c3c2
BEGIN:VTIMEZONE
TZID:Australia/Sydney
TZURL:http://tzurl.org/zoneinfo-outlook/Australia/Sydney
X-LIC-LOCATION:Australia/Sydney
BEGIN:STANDARD
TZOFFSETFROM:+1100
TZOFFSETTO:+1000
TZNAME:AEST
DTSTART:19700405T030000
RRULE:FREQ=YEARLY;BYMONTH=4;BYDAY=1SU
END:STANDARD
BEGIN:DAYLIGHT
TZOFFSETFROM:+1000
TZOFFSETTO:+1100
TZNAME:AEDT
DTSTART:19701004T020000
RRULE:FREQ=YEARLY;BYMONTH=10;BYDAY=1SU
END:DAYLIGHT
END:VTIMEZONE
CALSCALE:GREGORIAN
X-WR-TIMEZONE:Australia/Sydney
BEGIN:VEVENT
DTSTART;VALUE=DATE:20110527
DTEND;VALUE=DATE:20110528
DTSTAMP:20110527T000000Z
UID:b2f1e4c1-62aa-4320-b6e4-35120eb2917e
LOCATION:
SUMMARY;LANGUAGE=en-us:LNC/Macleay Cross Country
SEQUENCE:0
DESCRIPTION:LNC/Macleay Cross Country - Kempsey Race Course
END:VEVENT
TRANSP:TRANSPARENT
END:VCALENDAR
