BEGIN:VCALENDAR
VERSION:2.0
PRODID:-//Department Of Education//c0f41d9c-4bed-4faa-aaa1-1b2db1a5a28e
BEGIN:VTIMEZONE
TZID:Australia/Sydney
TZURL:http://tzurl.org/zoneinfo-outlook/Australia/Sydney
X-LIC-LOCATION:Australia/Sydney
BEGIN:STANDARD
TZOFFSETFROM:+1100
TZOFFSETTO:+1000
TZNAME:AEST
DTSTART:19700405T030000
RRULE:FREQ=YEARLY;BYMONTH=4;BYDAY=1SU
END:STANDARD
BEGIN:DAYLIGHT
TZOFFSETFROM:+1000
TZOFFSETTO:+1100
TZNAME:AEDT
DTSTART:19701004T020000
RRULE:FREQ=YEARLY;BYMONTH=10;BYDAY=1SU
END:DAYLIGHT
END:VTIMEZONE
CALSCALE:GREGORIAN
X-WR-TIMEZONE:Australia/Sydney
BEGIN:VEVENT
DTSTART;TZID=Australia/Sydney:20110511T093000
DTEND;TZID=Australia/Sydney:20110511T110000
DTSTAMP:20110511T093000Z
UID:1b4dfcd3-ad3f-4e63-856b-d04a75e8d93c
LOCATION:
SUMMARY;LANGUAGE=en-us:Otitis Media School Hearing 
SEQUENCE:0
DESCRIPTION:Otitis Media School Hearing Screening Program
END:VEVENT
TRANSP:TRANSPARENT
END:VCALENDAR
