BEGIN:VCALENDAR
VERSION:2.0
PRODID:-//Department Of Education//81abb614-bd98-45b2-944d-5990233ece02
BEGIN:VTIMEZONE
TZID:Australia/Sydney
TZURL:http://tzurl.org/zoneinfo-outlook/Australia/Sydney
X-LIC-LOCATION:Australia/Sydney
BEGIN:STANDARD
TZOFFSETFROM:+1100
TZOFFSETTO:+1000
TZNAME:AEST
DTSTART:19700405T030000
RRULE:FREQ=YEARLY;BYMONTH=4;BYDAY=1SU
END:STANDARD
BEGIN:DAYLIGHT
TZOFFSETFROM:+1000
TZOFFSETTO:+1100
TZNAME:AEDT
DTSTART:19701004T020000
RRULE:FREQ=YEARLY;BYMONTH=10;BYDAY=1SU
END:DAYLIGHT
END:VTIMEZONE
CALSCALE:GREGORIAN
X-WR-TIMEZONE:Australia/Sydney
BEGIN:VEVENT
DTSTART;TZID=Australia/Sydney:20110617T093000
DTEND;TZID=Australia/Sydney:20110617T100000
DTSTAMP:20110617T093000Z
UID:9843a3d9-36f4-45c7-8989-65d7d75389b9
LOCATION:
SUMMARY;LANGUAGE=en-us:Assembly
SEQUENCE:0
DESCRIPTION:Fortnightly School Assembly
END:VEVENT
TRANSP:TRANSPARENT
END:VCALENDAR
