BEGIN:VCALENDAR
VERSION:2.0
PRODID:-//Department Of Education//d052d4c8-bfd5-4755-a57d-06708c0d91f9
BEGIN:VTIMEZONE
TZID:Australia/Sydney
TZURL:http://tzurl.org/zoneinfo-outlook/Australia/Sydney
X-LIC-LOCATION:Australia/Sydney
BEGIN:STANDARD
TZOFFSETFROM:+1100
TZOFFSETTO:+1000
TZNAME:AEST
DTSTART:19700405T030000
RRULE:FREQ=YEARLY;BYMONTH=4;BYDAY=1SU
END:STANDARD
BEGIN:DAYLIGHT
TZOFFSETFROM:+1000
TZOFFSETTO:+1100
TZNAME:AEDT
DTSTART:19701004T020000
RRULE:FREQ=YEARLY;BYMONTH=10;BYDAY=1SU
END:DAYLIGHT
END:VTIMEZONE
CALSCALE:GREGORIAN
X-WR-TIMEZONE:Australia/Sydney
BEGIN:VEVENT
DTSTART;TZID=Australia/Sydney:20110607T100000
DTEND;TZID=Australia/Sydney:20110607T130000
DTSTAMP:20110607T100000Z
UID:3c2b115b-5006-4600-a034-a166890cc8f5
LOCATION:
SUMMARY;LANGUAGE=en-us:Band Visit
SEQUENCE:0
DESCRIPTION:Our school Band is visiting "Macleay Valley Home" to play to the residents.
END:VEVENT
TRANSP:TRANSPARENT
END:VCALENDAR
