BEGIN:VCALENDAR
VERSION:2.0
PRODID:-//Department Of Education//6e245840-e0cc-4fd6-bbd8-dce30d563856
BEGIN:VTIMEZONE
TZID:Australia/Sydney
TZURL:http://tzurl.org/zoneinfo-outlook/Australia/Sydney
X-LIC-LOCATION:Australia/Sydney
BEGIN:STANDARD
TZOFFSETFROM:+1100
TZOFFSETTO:+1000
TZNAME:AEST
DTSTART:19700405T030000
RRULE:FREQ=YEARLY;BYMONTH=4;BYDAY=1SU
END:STANDARD
BEGIN:DAYLIGHT
TZOFFSETFROM:+1000
TZOFFSETTO:+1100
TZNAME:AEDT
DTSTART:19701004T020000
RRULE:FREQ=YEARLY;BYMONTH=10;BYDAY=1SU
END:DAYLIGHT
END:VTIMEZONE
CALSCALE:GREGORIAN
X-WR-TIMEZONE:Australia/Sydney
BEGIN:VEVENT
DTSTART;TZID=Australia/Sydney:20110614T103000
DTEND;TZID=Australia/Sydney:20110614T130000
DTSTAMP:20110614T103000Z
UID:c89e8c70-e865-4178-a3ad-b6814fc32016
LOCATION:
SUMMARY;LANGUAGE=en-us:Choir Visit
SEQUENCE:0
DESCRIPTION:Our Choir will be visiting "Macleay Valley House" to sing to the residents.
END:VEVENT
TRANSP:TRANSPARENT
END:VCALENDAR
