BEGIN:VCALENDAR
VERSION:2.0
PRODID:-//Department Of Education//ace5e0a3-abda-4f38-b2f0-fa1c8263d9cf
BEGIN:VTIMEZONE
TZID:Australia/Sydney
TZURL:http://tzurl.org/zoneinfo-outlook/Australia/Sydney
X-LIC-LOCATION:Australia/Sydney
BEGIN:STANDARD
TZOFFSETFROM:+1100
TZOFFSETTO:+1000
TZNAME:AEST
DTSTART:19700405T030000
RRULE:FREQ=YEARLY;BYMONTH=4;BYDAY=1SU
END:STANDARD
BEGIN:DAYLIGHT
TZOFFSETFROM:+1000
TZOFFSETTO:+1100
TZNAME:AEDT
DTSTART:19701004T020000
RRULE:FREQ=YEARLY;BYMONTH=10;BYDAY=1SU
END:DAYLIGHT
END:VTIMEZONE
CALSCALE:GREGORIAN
X-WR-TIMEZONE:Australia/Sydney
BEGIN:VEVENT
DTSTART;VALUE=DATE:20110630
DTEND;VALUE=DATE:20110701
DTSTAMP:20110630T000000Z
UID:efc4d8ce-9bca-498a-83c4-d3defa4a3e4d
LOCATION:
SUMMARY;LANGUAGE=en-us:FAIR Day
SEQUENCE:0
DESCRIPTION:FAIR Day
END:VEVENT
TRANSP:TRANSPARENT
END:VCALENDAR
