BEGIN:VCALENDAR
VERSION:2.0
PRODID:-//Department Of Education//46038784-1961-48e6-a81a-88919e5a534d
BEGIN:VTIMEZONE
TZID:Australia/Sydney
TZURL:http://tzurl.org/zoneinfo-outlook/Australia/Sydney
X-LIC-LOCATION:Australia/Sydney
BEGIN:STANDARD
TZOFFSETFROM:+1100
TZOFFSETTO:+1000
TZNAME:AEST
DTSTART:19700405T030000
RRULE:FREQ=YEARLY;BYMONTH=4;BYDAY=1SU
END:STANDARD
BEGIN:DAYLIGHT
TZOFFSETFROM:+1000
TZOFFSETTO:+1100
TZNAME:AEDT
DTSTART:19701004T020000
RRULE:FREQ=YEARLY;BYMONTH=10;BYDAY=1SU
END:DAYLIGHT
END:VTIMEZONE
CALSCALE:GREGORIAN
X-WR-TIMEZONE:Australia/Sydney
BEGIN:VEVENT
DTSTART;TZID=Australia/Sydney:20110608T130000
DTEND;TZID=Australia/Sydney:20110608T143000
DTSTAMP:20110608T130000Z
UID:e8f06810-0bd2-4f6a-b16e-35bb0d05609a
LOCATION:
SUMMARY;LANGUAGE=en-us:PSSA Boys Soccer
SEQUENCE:0
DESCRIPTION:Frederickton V's Aldavillla for Round 2 of PSSA Soccer. Kemp Street oval - kick off 1.00pm.
END:VEVENT
TRANSP:TRANSPARENT
END:VCALENDAR
