BEGIN:VCALENDAR
VERSION:2.0
PRODID:-//Department Of Education//d10061b2-9468-45c7-a434-b2d04330cae2
BEGIN:VTIMEZONE
TZID:Australia/Sydney
TZURL:http://tzurl.org/zoneinfo-outlook/Australia/Sydney
X-LIC-LOCATION:Australia/Sydney
BEGIN:STANDARD
TZOFFSETFROM:+1100
TZOFFSETTO:+1000
TZNAME:AEST
DTSTART:19700405T030000
RRULE:FREQ=YEARLY;BYMONTH=4;BYDAY=1SU
END:STANDARD
BEGIN:DAYLIGHT
TZOFFSETFROM:+1000
TZOFFSETTO:+1100
TZNAME:AEDT
DTSTART:19701004T020000
RRULE:FREQ=YEARLY;BYMONTH=10;BYDAY=1SU
END:DAYLIGHT
END:VTIMEZONE
CALSCALE:GREGORIAN
X-WR-TIMEZONE:Australia/Sydney
BEGIN:VEVENT
DTSTART;TZID=Australia/Sydney:20110609T093000
DTEND;TZID=Australia/Sydney:20110609T143000
DTSTAMP:20110609T093000Z
UID:1e8262c9-1796-4bee-a03f-fdd0367b2ffb
LOCATION:
SUMMARY;LANGUAGE=en-us:Pssa Girls Soccer
SEQUENCE:0
DESCRIPTION:PSSA Girls Soccer Knockout Gala Day
END:VEVENT
TRANSP:TRANSPARENT
END:VCALENDAR
