BEGIN:VCALENDAR
VERSION:2.0
PRODID:-//Department Of Education//e3cdbbfa-1af4-4e77-b25d-bb1397ccd1b8
BEGIN:VTIMEZONE
TZID:Australia/Sydney
TZURL:http://tzurl.org/zoneinfo-outlook/Australia/Sydney
X-LIC-LOCATION:Australia/Sydney
BEGIN:STANDARD
TZOFFSETFROM:+1100
TZOFFSETTO:+1000
TZNAME:AEST
DTSTART:19700405T030000
RRULE:FREQ=YEARLY;BYMONTH=4;BYDAY=1SU
END:STANDARD
BEGIN:DAYLIGHT
TZOFFSETFROM:+1000
TZOFFSETTO:+1100
TZNAME:AEDT
DTSTART:19701004T020000
RRULE:FREQ=YEARLY;BYMONTH=10;BYDAY=1SU
END:DAYLIGHT
END:VTIMEZONE
CALSCALE:GREGORIAN
X-WR-TIMEZONE:Australia/Sydney
BEGIN:VEVENT
DTSTART;TZID=Australia/Sydney:20110727T160000
DTEND;TZID=Australia/Sydney:20110727T180000
DTSTAMP:20110727T160000Z
UID:c9c92f73-edc2-46a7-b4cc-b54eff3720da
LOCATION:
SUMMARY;LANGUAGE=en-us:Parent Teacher Interviews
SEQUENCE:0
DESCRIPTION:Parent Teacher Interviews will be held from 4.00pm - 6.00pm in the School Hall. Notes attached - if your would like to book a time please fill in and returned to the admin office by Wednesday morning.
END:VEVENT
TRANSP:TRANSPARENT
END:VCALENDAR
