BEGIN:VCALENDAR
VERSION:2.0
PRODID:-//Department Of Education//0eb87cba-7e5e-44cf-8c26-9b7e3f203be9
BEGIN:VTIMEZONE
TZID:Australia/Sydney
TZURL:http://tzurl.org/zoneinfo-outlook/Australia/Sydney
X-LIC-LOCATION:Australia/Sydney
BEGIN:STANDARD
TZOFFSETFROM:+1100
TZOFFSETTO:+1000
TZNAME:AEST
DTSTART:19700405T030000
RRULE:FREQ=YEARLY;BYMONTH=4;BYDAY=1SU
END:STANDARD
BEGIN:DAYLIGHT
TZOFFSETFROM:+1000
TZOFFSETTO:+1100
TZNAME:AEDT
DTSTART:19701004T020000
RRULE:FREQ=YEARLY;BYMONTH=10;BYDAY=1SU
END:DAYLIGHT
END:VTIMEZONE
CALSCALE:GREGORIAN
X-WR-TIMEZONE:Australia/Sydney
BEGIN:VEVENT
DTSTART;VALUE=DATE:20110902
DTEND;VALUE=DATE:20110903
DTSTAMP:20110902T000000Z
UID:bf6977ac-c448-4c9a-a3cc-f1fd09f1c2f9
LOCATION:
SUMMARY;LANGUAGE=en-us:Footy Colours Day
SEQUENCE:0
DESCRIPTION:Father's Day activity at school - students and parents wear their favourite footy colours.
END:VEVENT
TRANSP:TRANSPARENT
END:VCALENDAR
