BEGIN:VCALENDAR
VERSION:2.0
PRODID:-//Department Of Education//440cc20a-0c49-486a-9734-5873e9ba5928
BEGIN:VTIMEZONE
TZID:Australia/Sydney
TZURL:http://tzurl.org/zoneinfo-outlook/Australia/Sydney
X-LIC-LOCATION:Australia/Sydney
BEGIN:STANDARD
TZOFFSETFROM:+1100
TZOFFSETTO:+1000
TZNAME:AEST
DTSTART:19700405T030000
RRULE:FREQ=YEARLY;BYMONTH=4;BYDAY=1SU
END:STANDARD
BEGIN:DAYLIGHT
TZOFFSETFROM:+1000
TZOFFSETTO:+1100
TZNAME:AEDT
DTSTART:19701004T020000
RRULE:FREQ=YEARLY;BYMONTH=10;BYDAY=1SU
END:DAYLIGHT
END:VTIMEZONE
CALSCALE:GREGORIAN
X-WR-TIMEZONE:Australia/Sydney
BEGIN:VEVENT
DTSTART;VALUE=DATE:20110915
DTEND;VALUE=DATE:20110916
DTSTAMP:20110915T000000Z
UID:4287ae5a-bd41-43ac-a968-8634e6049874
LOCATION:
SUMMARY;LANGUAGE=en-us:Fredo Spectular
SEQUENCE:0
DESCRIPTION:Students entertain their family and friends.
END:VEVENT
TRANSP:TRANSPARENT
END:VCALENDAR
