BEGIN:VCALENDAR
VERSION:2.0
PRODID:-//Department Of Education//3a169aeb-0209-4aa9-89e9-6af5059cccf1
BEGIN:VTIMEZONE
TZID:Australia/Sydney
TZURL:http://tzurl.org/zoneinfo-outlook/Australia/Sydney
X-LIC-LOCATION:Australia/Sydney
BEGIN:STANDARD
TZOFFSETFROM:+1100
TZOFFSETTO:+1000
TZNAME:AEST
DTSTART:19700405T030000
RRULE:FREQ=YEARLY;BYMONTH=4;BYDAY=1SU
END:STANDARD
BEGIN:DAYLIGHT
TZOFFSETFROM:+1000
TZOFFSETTO:+1100
TZNAME:AEDT
DTSTART:19701004T020000
RRULE:FREQ=YEARLY;BYMONTH=10;BYDAY=1SU
END:DAYLIGHT
END:VTIMEZONE
CALSCALE:GREGORIAN
X-WR-TIMEZONE:Australia/Sydney
BEGIN:VEVENT
DTSTART;TZID=Australia/Sydney:20110916T143000
DTEND;TZID=Australia/Sydney:20110916T153000
DTSTAMP:20110916T143000Z
UID:dff2991e-7cc2-4378-ae05-6ae72cca015e
LOCATION:
SUMMARY;LANGUAGE=en-us:Jump Rope for Heart
SEQUENCE:0
DESCRIPTION:Jump Rope for Heart
END:VEVENT
TRANSP:TRANSPARENT
END:VCALENDAR
